BEGIN:VCALENDAR
VERSION:2.0
PRODID:-//St. Nicholas&#039; International College, Negombo - ECPv6.15.11//NONSGML v1.0//EN
CALSCALE:GREGORIAN
METHOD:PUBLISH
X-WR-CALNAME:St. Nicholas&#039; International College, Negombo
X-ORIGINAL-URL:https://snic.lk/wp
X-WR-CALDESC:Events for St. Nicholas&#039; International College, Negombo
REFRESH-INTERVAL;VALUE=DURATION:PT1H
X-Robots-Tag:noindex
X-PUBLISHED-TTL:PT1H
BEGIN:VTIMEZONE
TZID:Asia/Kolkata
BEGIN:STANDARD
TZOFFSETFROM:+0530
TZOFFSETTO:+0530
TZNAME:IST
DTSTART:20160101T000000
END:STANDARD
END:VTIMEZONE
BEGIN:VTIMEZONE
TZID:UTC
BEGIN:STANDARD
TZOFFSETFROM:+0000
TZOFFSETTO:+0000
TZNAME:UTC
DTSTART:20150101T000000
END:STANDARD
END:VTIMEZONE
BEGIN:VEVENT
DTSTART;TZID=Asia/Kolkata:20190531T080000
DTEND;TZID=Asia/Kolkata:20190531T123000
DTSTAMP:20260420T092905
CREATED:20190514T044021Z
LAST-MODIFIED:20190528T014615Z
UID:3858-1559289600-1559305800@snic.lk
SUMMARY:Marian Devotion may Noveena and Holy Mass
DESCRIPTION:May devotion to Mother Mary \nHoly Mass
URL:https://snic.lk/wp/event/may-devotion-to-mother-mary/
END:VEVENT
BEGIN:VEVENT
DTSTART;TZID=Asia/Kolkata:20190524T080000
DTEND;TZID=Asia/Kolkata:20190524T170000
DTSTAMP:20260420T092905
CREATED:20190524T073037Z
LAST-MODIFIED:20190524T073037Z
UID:3990-1558684800-1558717200@snic.lk
SUMMARY:School reopens for the 1st term
DESCRIPTION:(Academic year 2019/2020) \nHoly Mass Both Schools
URL:https://snic.lk/wp/event/school-reopens-for-the-1st-term/
END:VEVENT
BEGIN:VEVENT
DTSTART;TZID=Asia/Kolkata:20190206T080000
DTEND;TZID=Asia/Kolkata:20190206T170000
DTSTAMP:20260420T092905
CREATED:20190111T080051Z
LAST-MODIFIED:20190206T061443Z
UID:3531-1549440000-1549472400@snic.lk
SUMMARY:Sports meet 2018-2019
DESCRIPTION:
URL:https://snic.lk/wp/event/sports-meet-2018-2019/
ATTACH;FMTTYPE=image/jpeg:https://snic.lk/wp/wp-content/uploads/2019/02/IMG_9578.jpg
END:VEVENT
BEGIN:VEVENT
DTSTART;TZID=Asia/Kolkata:20180407T073000
DTEND;TZID=Asia/Kolkata:20180407T133000
DTSTAMP:20260420T092905
CREATED:20180328T021705Z
LAST-MODIFIED:20180328T025812Z
UID:1783-1523086200-1523107800@snic.lk
SUMMARY:Awurudu ulela
DESCRIPTION:Bakmaha ulela
URL:https://snic.lk/wp/event/awurudu/
LOCATION:St.nicholas’ International College(Junior)\, Divulapitiya Road\,Thimbirigaskatuwa\,Negombo\, Negombo\, western\, 11500\, Sri Lanka
ATTACH;FMTTYPE=image/jpeg:https://snic.lk/wp/wp-content/uploads/2018/03/Untitled-1-7.jpg
END:VEVENT
BEGIN:VEVENT
DTSTART;TZID=Asia/Kolkata:20180112T130000
DTEND;TZID=Asia/Kolkata:20180112T183000
DTSTAMP:20260420T092905
CREATED:20180221T003744Z
LAST-MODIFIED:20180221T003800Z
UID:1517-1515762000-1515781800@snic.lk
SUMMARY:Inter House Swimming Meet
DESCRIPTION:
URL:https://snic.lk/wp/event/inter-house-swimming-meet/
END:VEVENT
BEGIN:VEVENT
DTSTART;TZID=Asia/Kolkata:20171208T183000
DTEND;TZID=Asia/Kolkata:20171208T203000
DTSTAMP:20260420T092905
CREATED:20171205T002649Z
LAST-MODIFIED:20171205T005041Z
UID:906-1512757800-1512765000@snic.lk
SUMMARY:Christmas Carols
DESCRIPTION:
URL:https://snic.lk/wp/event/christmas-carols/
END:VEVENT
BEGIN:VEVENT
DTSTART;TZID=Asia/Kolkata:20171208T160000
DTEND;TZID=Asia/Kolkata:20171208T173000
DTSTAMP:20260420T092905
CREATED:20171204T222757Z
LAST-MODIFIED:20171204T222757Z
UID:904-1512748800-1512754200@snic.lk
SUMMARY:Christmas get together (Elementary) 4.00 P.M.
DESCRIPTION:
URL:https://snic.lk/wp/event/christmas-get-together-elementary-4-00-p-m/
END:VEVENT
BEGIN:VEVENT
DTSTART;TZID=Asia/Kolkata:20171208T072000
DTEND;TZID=Asia/Kolkata:20171208T133000
DTSTAMP:20260420T092905
CREATED:20171204T222001Z
LAST-MODIFIED:20171204T223617Z
UID:902-1512717600-1512739800@snic.lk
SUMMARY:Benediction at both school.Reports Distribution.1st term school closing
DESCRIPTION:
URL:https://snic.lk/wp/event/benediction-at-both-school-reports-distribution-1st-term-school-closing/
END:VEVENT
BEGIN:VEVENT
DTSTART;TZID=Asia/Kolkata:20171207T072000
DTEND;TZID=Asia/Kolkata:20171207T133000
DTSTAMP:20260420T092905
CREATED:20171204T221134Z
LAST-MODIFIED:20171204T221134Z
UID:900-1512631200-1512653400@snic.lk
SUMMARY:Spiritual Programme (Upper)
DESCRIPTION:
URL:https://snic.lk/wp/event/spiritual-programme-upper/
END:VEVENT
BEGIN:VEVENT
DTSTART;TZID=Asia/Kolkata:20171206T072000
DTEND;TZID=Asia/Kolkata:20171206T133000
DTSTAMP:20260420T092905
CREATED:20171204T220508Z
LAST-MODIFIED:20171204T220637Z
UID:898-1512544800-1512567000@snic.lk
SUMMARY:College Feast(Upper)
DESCRIPTION:
URL:https://snic.lk/wp/event/college-feastupper/
END:VEVENT
BEGIN:VEVENT
DTSTART;TZID=Asia/Kolkata:20171206T072000
DTEND;TZID=Asia/Kolkata:20171206T133000
DTSTAMP:20260420T092906
CREATED:20171127T234447Z
LAST-MODIFIED:20171128T002548Z
UID:877-1512544800-1512567000@snic.lk
SUMMARY:paper discussions (junior )
DESCRIPTION:
URL:https://snic.lk/wp/event/paper-discussions-junior/
LOCATION:St.nicholas’ International College(Junior)\, Divulapitiya Road\,Thimbirigaskatuwa\,Negombo\, Negombo\, western\, 11500\, Sri Lanka
END:VEVENT
BEGIN:VEVENT
DTSTART;TZID=Asia/Kolkata:20171205T072000
DTEND;TZID=Asia/Kolkata:20171205T133000
DTSTAMP:20260420T092906
CREATED:20171204T220224Z
LAST-MODIFIED:20171204T220224Z
UID:896-1512458400-1512480600@snic.lk
SUMMARY:Paper discussions(Upper school)
DESCRIPTION:
URL:https://snic.lk/wp/event/paper-discussionsupper-school/
END:VEVENT
BEGIN:VEVENT
DTSTART;TZID=Asia/Kolkata:20171205T072000
DTEND;TZID=Asia/Kolkata:20171205T132000
DTSTAMP:20260420T092906
CREATED:20171128T001044Z
LAST-MODIFIED:20171128T002359Z
UID:875-1512458400-1512480000@snic.lk
SUMMARY:College Feast (junior)
DESCRIPTION:
URL:https://snic.lk/wp/event/college-feast-junior/
LOCATION:St.nicholas’ International College(Junior)\, Divulapitiya Road\,Thimbirigaskatuwa\,Negombo\, Negombo\, western\, 11500\, Sri Lanka
END:VEVENT
BEGIN:VEVENT
DTSTART;TZID=UTC:20171204T072000
DTEND;TZID=UTC:20171204T133000
DTSTAMP:20260420T092906
CREATED:20171128T003435Z
LAST-MODIFIED:20171128T003436Z
UID:881-1512372000-1512394200@snic.lk
SUMMARY:paper discussions (junior )
DESCRIPTION:
URL:https://snic.lk/wp/event/paper-discussions-junior-2/
END:VEVENT
BEGIN:VEVENT
DTSTART;VALUE=DATE:20171130
DTEND;VALUE=DATE:20171201
DTSTAMP:20260420T092906
CREATED:20171127T231203Z
LAST-MODIFIED:20171127T231203Z
UID:872-1512000000-1512086399@snic.lk
SUMMARY:Holiday for junior school
DESCRIPTION:
URL:https://snic.lk/wp/event/holiday-for-junior-school/
LOCATION:St.nicholas’ International College(Junior)\, Divulapitiya Road\,Thimbirigaskatuwa\,Negombo\, Negombo\, western\, 11500\, Sri Lanka
END:VEVENT
BEGIN:VEVENT
DTSTART;TZID=Asia/Kolkata:20171123T072000
DTEND;TZID=Asia/Kolkata:20171130T133000
DTSTAMP:20260420T092906
CREATED:20171127T003917Z
LAST-MODIFIED:20171127T005300Z
UID:856-1511421600-1512048600@snic.lk
SUMMARY:1st Term Tests
DESCRIPTION:
URL:https://snic.lk/wp/event/1st-term-tests/
END:VEVENT
BEGIN:VEVENT
DTSTART;TZID=UTC:20170906T072000
DTEND;TZID=UTC:20170906T133000
DTSTAMP:20260420T092906
CREATED:20170629T075514Z
LAST-MODIFIED:20170629T075737Z
UID:725-1504682400-1504704600@snic.lk
SUMMARY:Reopening for the Academic Year 2017/ 2018
DESCRIPTION:
URL:https://snic.lk/wp/event/reopening-for-the-academic-year-2017-2018/
END:VEVENT
BEGIN:VEVENT
DTSTART;TZID=UTC:20170724T100000
DTEND;TZID=UTC:20170724T120000
DTSTAMP:20260420T092906
CREATED:20170629T075037Z
LAST-MODIFIED:20170629T075037Z
UID:722-1500890400-1500897600@snic.lk
SUMMARY:Report Distribution & Closing the School for the Third Term holidays
DESCRIPTION:
URL:https://snic.lk/wp/event/report-distribution-closing-the-school-for-the-third-term-holidays/
END:VEVENT
BEGIN:VEVENT
DTSTART;TZID=UTC:20170710T080000
DTEND;TZID=UTC:20170717T170000
DTSTAMP:20260420T092906
CREATED:20170623T073812Z
LAST-MODIFIED:20170623T074348Z
UID:615-1499673600-1500310800@snic.lk
SUMMARY:Promotion Test
DESCRIPTION:
URL:https://snic.lk/wp/event/promotion-test/
END:VEVENT
BEGIN:VEVENT
DTSTART;TZID=UTC:20161124T080000
DTEND;TZID=UTC:20161130T170000
DTSTAMP:20260420T092906
CREATED:20161110T201951Z
LAST-MODIFIED:20161110T201951Z
UID:410-1479974400-1480525200@snic.lk
SUMMARY:First Term Test
DESCRIPTION:First Term Test
URL:https://snic.lk/wp/event/first-term-test/
END:VEVENT
BEGIN:VEVENT
DTSTART;TZID=UTC:20161121T080000
DTEND;TZID=UTC:20161121T170000
DTSTAMP:20260420T092906
CREATED:20161110T201910Z
LAST-MODIFIED:20161110T201910Z
UID:408-1479715200-1479747600@snic.lk
SUMMARY:Presentation of Blessed Virgin Mary
DESCRIPTION:
URL:https://snic.lk/wp/event/presentation-of-blessed-virgin-mary/
END:VEVENT
BEGIN:VEVENT
DTSTART;TZID=UTC:20161111T080000
DTEND;TZID=UTC:20161111T170000
DTSTAMP:20260420T092906
CREATED:20161110T201833Z
LAST-MODIFIED:20161110T201833Z
UID:406-1478851200-1478883600@snic.lk
SUMMARY:Annual Prize Giving
DESCRIPTION:Annual Prize Giving
URL:https://snic.lk/wp/event/annual-prize-giving/
END:VEVENT
BEGIN:VEVENT
DTSTART;TZID=UTC:20161103T080000
DTEND;TZID=UTC:20161103T170000
DTSTAMP:20260420T092906
CREATED:20161110T201743Z
LAST-MODIFIED:20161110T201743Z
UID:404-1478160000-1478192400@snic.lk
SUMMARY:Parents’ Visits – Junior School
DESCRIPTION:Parents’ Visits – Junior School
URL:https://snic.lk/wp/event/parents-visits-junior-school/
END:VEVENT
BEGIN:VEVENT
DTSTART;TZID=UTC:20161102T080000
DTEND;TZID=UTC:20161102T170000
DTSTAMP:20260420T092906
CREATED:20161110T201657Z
LAST-MODIFIED:20161110T201657Z
UID:402-1478073600-1478106000@snic.lk
SUMMARY:Holy Mass – All Souls’ day
DESCRIPTION:Holy Mass – All Souls’ day
URL:https://snic.lk/wp/event/holy-mass-all-souls-day/
END:VEVENT
BEGIN:VEVENT
DTSTART;TZID=UTC:20161101T080000
DTEND;TZID=UTC:20161101T170000
DTSTAMP:20260420T092906
CREATED:20161110T201612Z
LAST-MODIFIED:20161110T201612Z
UID:400-1477987200-1478019600@snic.lk
SUMMARY:All Saints’ day
DESCRIPTION:All Saints’ day
URL:https://snic.lk/wp/event/all-saints-day/
END:VEVENT
BEGIN:VEVENT
DTSTART;TZID=UTC:20160919T080000
DTEND;TZID=UTC:20160919T170000
DTSTAMP:20260420T092906
CREATED:20160919T022718Z
LAST-MODIFIED:20160919T022718Z
UID:20-1474272000-1474304400@snic.lk
SUMMARY:Test event
DESCRIPTION:sdfksefljsb. dfbf
URL:https://snic.lk/wp/event/test-event/
END:VEVENT
BEGIN:VEVENT
DTSTART;TZID=UTC:20160531T080000
DTEND;TZID=UTC:20160531T140000
DTSTAMP:20260420T092906
CREATED:20161009T230500Z
LAST-MODIFIED:20161009T230500Z
UID:92-1464681600-1464703200@snic.lk
SUMMARY:Feast of the Visitation of Blessed Virgin Mary
DESCRIPTION:
URL:https://snic.lk/wp/event/feast-of-the-visitation-of-blessed-virgin-mary/
END:VEVENT
BEGIN:VEVENT
DTSTART;TZID=UTC:20160527T080000
DTEND;TZID=UTC:20160527T140000
DTSTAMP:20260420T092906
CREATED:20161009T230424Z
LAST-MODIFIED:20161009T230424Z
UID:90-1464336000-1464357600@snic.lk
SUMMARY:Last Friday - Parents' visit Upper School
DESCRIPTION:
URL:https://snic.lk/wp/event/last-friday-parents-visit-upper-school/
END:VEVENT
BEGIN:VEVENT
DTSTART;TZID=UTC:20160525T080000
DTEND;TZID=UTC:20160526T140000
DTSTAMP:20260420T092906
CREATED:20161009T230348Z
LAST-MODIFIED:20161009T230348Z
UID:88-1464163200-1464271200@snic.lk
SUMMARY:Mid Term Test
DESCRIPTION:
URL:https://snic.lk/wp/event/mid-term-test/
END:VEVENT
BEGIN:VEVENT
DTSTART;TZID=UTC:20160519T080000
DTEND;TZID=UTC:20160519T140000
DTSTAMP:20260420T092906
CREATED:20161009T230252Z
LAST-MODIFIED:20161009T230252Z
UID:86-1463644800-1463666400@snic.lk
SUMMARY:English Literary Association - Middle School Parents' visit Upper School
DESCRIPTION:
URL:https://snic.lk/wp/event/english-literary-association-middle-school-parents-visit-upper-school/
END:VEVENT
END:VCALENDAR