BEGIN:VCALENDAR
VERSION:2.0
PRODID:-//St. Nicholas&#039; International College, Negombo - ECPv6.15.11//NONSGML v1.0//EN
CALSCALE:GREGORIAN
METHOD:PUBLISH
X-ORIGINAL-URL:https://snic.lk/wp
X-WR-CALDESC:Events for St. Nicholas&#039; International College, Negombo
REFRESH-INTERVAL;VALUE=DURATION:PT1H
X-Robots-Tag:noindex
X-PUBLISHED-TTL:PT1H
BEGIN:VTIMEZONE
TZID:Asia/Kolkata
BEGIN:STANDARD
TZOFFSETFROM:+0530
TZOFFSETTO:+0530
TZNAME:IST
DTSTART:20180101T000000
END:STANDARD
END:VTIMEZONE
BEGIN:VEVENT
DTSTART;TZID=Asia/Kolkata:20191112T080000
DTEND;TZID=Asia/Kolkata:20191112T170000
DTSTAMP:20260420T044039
CREATED:20190820T062827Z
LAST-MODIFIED:20190820T062827Z
UID:4616-1573545600-1573578000@snic.lk
SUMMARY:Holiday (Poya day)
DESCRIPTION:
URL:https://snic.lk/wp/event/holiday-poya-day-2/
END:VEVENT
BEGIN:VEVENT
DTSTART;TZID=Asia/Kolkata:20191108T080000
DTEND;TZID=Asia/Kolkata:20191108T170000
DTSTAMP:20260420T044039
CREATED:20190820T062734Z
LAST-MODIFIED:20190820T062734Z
UID:4612-1573200000-1573232400@snic.lk
SUMMARY:Annual Prize Giving
DESCRIPTION:
URL:https://snic.lk/wp/event/annual-prize-giving-2/
END:VEVENT
BEGIN:VEVENT
DTSTART;TZID=Asia/Kolkata:20191101T080000
DTEND;TZID=Asia/Kolkata:20191101T170000
DTSTAMP:20260420T044039
CREATED:20190820T060814Z
LAST-MODIFIED:20190820T062221Z
UID:4608-1572595200-1572627600@snic.lk
SUMMARY:All Saints’ Day – Holy Mass & Parent Teacher Meetings –Junior School
DESCRIPTION:
URL:https://snic.lk/wp/event/all-saints-day-holy-mass/
END:VEVENT
BEGIN:VEVENT
DTSTART;TZID=Asia/Kolkata:20191025T080000
DTEND;TZID=Asia/Kolkata:20191025T170000
DTSTAMP:20260420T044039
CREATED:20190820T060616Z
LAST-MODIFIED:20190820T060616Z
UID:4606-1571990400-1572022800@snic.lk
SUMMARY:Language Day ( English / French / Sinhala) Junior School  Parent Teacher Meetings – Junior School
DESCRIPTION:
URL:https://snic.lk/wp/event/language-day-english-french-sinhala-junior-school-parent-teacher-meetings-junior-school/
END:VEVENT
BEGIN:VEVENT
DTSTART;TZID=Asia/Kolkata:20191024T080000
DTEND;TZID=Asia/Kolkata:20191024T170000
DTSTAMP:20260420T044039
CREATED:20190820T060546Z
LAST-MODIFIED:20190820T060546Z
UID:4604-1571904000-1571936400@snic.lk
SUMMARY:Language Day ( English / French / Sinhala) Upper School
DESCRIPTION:
URL:https://snic.lk/wp/event/language-day-english-french-sinhala-upper-school/
END:VEVENT
BEGIN:VEVENT
DTSTART;TZID=Asia/Kolkata:20191016T080000
DTEND;TZID=Asia/Kolkata:20191018T170000
DTSTAMP:20260420T044039
CREATED:20190820T060522Z
LAST-MODIFIED:20190820T060522Z
UID:4602-1571212800-1571418000@snic.lk
SUMMARY:Mid Term Tests
DESCRIPTION:
URL:https://snic.lk/wp/event/mid-term-tests/
END:VEVENT
BEGIN:VEVENT
DTSTART;TZID=Asia/Kolkata:20191004T080000
DTEND;TZID=Asia/Kolkata:20191004T170000
DTSTAMP:20260420T044039
CREATED:20190820T060438Z
LAST-MODIFIED:20190820T060438Z
UID:4600-1570176000-1570208400@snic.lk
SUMMARY:House Meetings Parent Teacher Meetings  –  Junior School
DESCRIPTION:
URL:https://snic.lk/wp/event/house-meetings-parent-teacher-meetings-junior-school/
END:VEVENT
BEGIN:VEVENT
DTSTART;TZID=Asia/Kolkata:20191001T080000
DTEND;TZID=Asia/Kolkata:20191001T170000
DTSTAMP:20260420T044039
CREATED:20190820T060349Z
LAST-MODIFIED:20190820T060349Z
UID:4598-1569916800-1569949200@snic.lk
SUMMARY:Children’s Day & Teachers’ Day Celebrations Holy Mass at both schools
DESCRIPTION:
URL:https://snic.lk/wp/event/childrens-day-teachers-day-celebrations-holy-mass-at-both-schools/
END:VEVENT
BEGIN:VEVENT
DTSTART;TZID=Asia/Kolkata:20190930T080000
DTEND;TZID=Asia/Kolkata:20190930T170000
DTSTAMP:20260420T044039
CREATED:20190820T060026Z
LAST-MODIFIED:20190820T060026Z
UID:4596-1569830400-1569862800@snic.lk
SUMMARY:Meetings of Science and Commerce Associations (12.00 – 1.30 pm)
DESCRIPTION:
URL:https://snic.lk/wp/event/meetings-of-science-and-commerce-associations-12-00-1-30-pm/
END:VEVENT
BEGIN:VEVENT
DTSTART;TZID=Asia/Kolkata:20190928T080000
DTEND;TZID=Asia/Kolkata:20190928T170000
DTSTAMP:20260420T044039
CREATED:20190820T055855Z
LAST-MODIFIED:20190820T055855Z
UID:4592-1569657600-1569690000@snic.lk
SUMMARY:Inter House Swimming Meet
DESCRIPTION:
URL:https://snic.lk/wp/event/inter-house-swimming-meet-2/
END:VEVENT
BEGIN:VEVENT
DTSTART;TZID=Asia/Kolkata:20190927T080000
DTEND;TZID=Asia/Kolkata:20190927T170000
DTSTAMP:20260420T044039
CREATED:20190820T055940Z
LAST-MODIFIED:20190820T055940Z
UID:4594-1569571200-1569603600@snic.lk
SUMMARY:Parent Teacher Meetings – Upper School
DESCRIPTION:
URL:https://snic.lk/wp/event/parent-teacher-meetings-upper-school/
END:VEVENT
BEGIN:VEVENT
DTSTART;TZID=Asia/Kolkata:20190919T080000
DTEND;TZID=Asia/Kolkata:20190920T170000
DTSTAMP:20260420T044039
CREATED:20190820T055644Z
LAST-MODIFIED:20190820T055825Z
UID:4589-1568880000-1568998800@snic.lk
SUMMARY:Swimming Meet Heats ( After School)
DESCRIPTION:
URL:https://snic.lk/wp/event/swimming-meet-heats-after-school/
END:VEVENT
BEGIN:VEVENT
DTSTART;TZID=Asia/Kolkata:20190913T080000
DTEND;TZID=Asia/Kolkata:20190913T170000
DTSTAMP:20260420T044039
CREATED:20190820T055556Z
LAST-MODIFIED:20190820T055556Z
UID:4587-1568361600-1568394000@snic.lk
SUMMARY:Poya Day ( Holiday)
DESCRIPTION:
URL:https://snic.lk/wp/event/poya-day-holiday/
END:VEVENT
BEGIN:VEVENT
DTSTART;TZID=Asia/Kolkata:20190906T080000
DTEND;TZID=Asia/Kolkata:20190906T170000
DTSTAMP:20260420T044039
CREATED:20190820T055532Z
LAST-MODIFIED:20190820T055532Z
UID:4585-1567756800-1567789200@snic.lk
SUMMARY:Parent Teacher Meetings –Junior School
DESCRIPTION:
URL:https://snic.lk/wp/event/parent-teacher-meetings-junior-school/
END:VEVENT
BEGIN:VEVENT
DTSTART;TZID=Asia/Kolkata:20190905T080000
DTEND;TZID=Asia/Kolkata:20190905T170000
DTSTAMP:20260420T044039
CREATED:20190820T055444Z
LAST-MODIFIED:20190820T055444Z
UID:4583-1567670400-1567702800@snic.lk
SUMMARY:House Meetings
DESCRIPTION:
URL:https://snic.lk/wp/event/house-meetings/
END:VEVENT
BEGIN:VEVENT
DTSTART;TZID=Asia/Kolkata:20190904T080000
DTEND;TZID=Asia/Kolkata:20190904T170000
DTSTAMP:20260420T044039
CREATED:20190528T015748Z
LAST-MODIFIED:20190528T015748Z
UID:4010-1567584000-1567616400@snic.lk
SUMMARY:School Reopens for students
DESCRIPTION:
URL:https://snic.lk/wp/event/school-reopens-for-students/
END:VEVENT
BEGIN:VEVENT
DTSTART;TZID=Asia/Kolkata:20190903T080000
DTEND;TZID=Asia/Kolkata:20190903T170000
DTSTAMP:20260420T044039
CREATED:20190524T072931Z
LAST-MODIFIED:20190528T015719Z
UID:3988-1567497600-1567530000@snic.lk
SUMMARY:School Reopens for teachers
DESCRIPTION:
URL:https://snic.lk/wp/event/school-reopens-for-teachers/
END:VEVENT
BEGIN:VEVENT
DTSTART;TZID=Asia/Kolkata:20190809T103000
DTEND;TZID=Asia/Kolkata:20190809T133000
DTSTAMP:20260420T044039
CREATED:20190528T020131Z
LAST-MODIFIED:20190528T020131Z
UID:4017-1565346600-1565357400@snic.lk
SUMMARY:Reports distribution and Parents'- teacher meetings
DESCRIPTION:
URL:https://snic.lk/wp/event/reports-distribution-and-parents-teacher-meetings/
END:VEVENT
BEGIN:VEVENT
DTSTART;TZID=Asia/Kolkata:20190809T080000
DTEND;TZID=Asia/Kolkata:20190809T170000
DTSTAMP:20260420T044039
CREATED:20190528T020231Z
LAST-MODIFIED:20190528T020231Z
UID:4019-1565337600-1565370000@snic.lk
SUMMARY:Closing of School for holidays
DESCRIPTION:
URL:https://snic.lk/wp/event/closing-of-school-for-holidays/
END:VEVENT
BEGIN:VEVENT
DTSTART;TZID=Asia/Kolkata:20190809T080000
DTEND;TZID=Asia/Kolkata:20190809T170000
DTSTAMP:20260420T044039
CREATED:20190528T020026Z
LAST-MODIFIED:20190528T020026Z
UID:4015-1565337600-1565370000@snic.lk
SUMMARY:Prefects Investiture(for senior Probations)
DESCRIPTION:
URL:https://snic.lk/wp/event/prefects-investiturefor-senior-probations/
END:VEVENT
BEGIN:VEVENT
DTSTART;TZID=Asia/Kolkata:20190809T080000
DTEND;TZID=Asia/Kolkata:20190809T170000
DTSTAMP:20260420T044039
CREATED:20190528T015917Z
LAST-MODIFIED:20190528T015917Z
UID:4012-1565337600-1565370000@snic.lk
SUMMARY:Holy Mass
DESCRIPTION:
URL:https://snic.lk/wp/event/holy-mass/
END:VEVENT
BEGIN:VEVENT
DTSTART;TZID=Asia/Kolkata:20190807T080000
DTEND;TZID=Asia/Kolkata:20190808T170000
DTSTAMP:20260420T044039
CREATED:20190524T072534Z
LAST-MODIFIED:20190528T015118Z
UID:3978-1565164800-1565283600@snic.lk
SUMMARY:Paper Discussions
DESCRIPTION:
URL:https://snic.lk/wp/event/paper-discussions/
END:VEVENT
BEGIN:VEVENT
DTSTART;TZID=Asia/Kolkata:20190805T080000
DTEND;TZID=Asia/Kolkata:20190806T170000
DTSTAMP:20260420T044039
CREATED:20190528T015213Z
LAST-MODIFIED:20190528T015213Z
UID:4007-1564992000-1565110800@snic.lk
SUMMARY:Paper corrections(Holiday to Students)
DESCRIPTION:
URL:https://snic.lk/wp/event/paper-correctionsholiday-to-students/
END:VEVENT
BEGIN:VEVENT
DTSTART;TZID=Asia/Kolkata:20190729T080000
DTEND;TZID=Asia/Kolkata:20190802T170000
DTSTAMP:20260420T044039
CREATED:20190524T071633Z
LAST-MODIFIED:20190528T015057Z
UID:3972-1564387200-1564765200@snic.lk
SUMMARY:3rd Term Test (Jr. School)
DESCRIPTION:
URL:https://snic.lk/wp/event/3rd-term-test-jr-school/
END:VEVENT
BEGIN:VEVENT
DTSTART;TZID=Asia/Kolkata:20190725T080000
DTEND;TZID=Asia/Kolkata:20190802T170000
DTSTAMP:20260420T044039
CREATED:20190524T071451Z
LAST-MODIFIED:20190528T014930Z
UID:3970-1564041600-1564765200@snic.lk
SUMMARY:3rd Term test (Upp. School)
DESCRIPTION:
URL:https://snic.lk/wp/event/3rd-term-test-upp-school/
END:VEVENT
BEGIN:VEVENT
DTSTART;TZID=Asia/Kolkata:20190716T080000
DTEND;TZID=Asia/Kolkata:20190716T170000
DTSTAMP:20260420T044039
CREATED:20190524T071929Z
LAST-MODIFIED:20190524T071929Z
UID:3974-1563264000-1563296400@snic.lk
SUMMARY:Holiday (Poya day)
DESCRIPTION:
URL:https://snic.lk/wp/event/holiday-poya-day/
END:VEVENT
BEGIN:VEVENT
DTSTART;TZID=Asia/Kolkata:20190624T080000
DTEND;TZID=Asia/Kolkata:20190624T170000
DTSTAMP:20260420T044039
CREATED:20190524T071048Z
LAST-MODIFIED:20190528T014812Z
UID:3966-1561363200-1561395600@snic.lk
SUMMARY:New batch of AS classes Begin
DESCRIPTION:
URL:https://snic.lk/wp/event/new-batch-of-as-classes-begin/
END:VEVENT
BEGIN:VEVENT
DTSTART;TZID=Asia/Kolkata:20190615T080000
DTEND;TZID=Asia/Kolkata:20190615T170000
DTSTAMP:20260420T044039
CREATED:20190524T070945Z
LAST-MODIFIED:20190524T070945Z
UID:3964-1560585600-1560618000@snic.lk
SUMMARY:First Holy Communion Service
DESCRIPTION:
URL:https://snic.lk/wp/event/first-holy-communion-service/
END:VEVENT
BEGIN:VEVENT
DTSTART;TZID=Asia/Kolkata:20190607T080000
DTEND;TZID=Asia/Kolkata:20190607T170000
DTSTAMP:20260420T044039
CREATED:20190524T070509Z
LAST-MODIFIED:20190524T070656Z
UID:3957-1559894400-1559926800@snic.lk
SUMMARY:Corpus Christy Celebration
DESCRIPTION:Holy Mass at Both Schools \n 
URL:https://snic.lk/wp/event/corpus-christy-celebration/
END:VEVENT
BEGIN:VEVENT
DTSTART;TZID=Asia/Kolkata:20190605T080000
DTEND;TZID=Asia/Kolkata:20190605T170000
DTSTAMP:20260420T044039
CREATED:20190524T070045Z
LAST-MODIFIED:20190524T070045Z
UID:3955-1559721600-1559754000@snic.lk
SUMMARY:Holiday (Id Ul-Fitr)
DESCRIPTION:Holiday (Id Ul-Fitr)
URL:https://snic.lk/wp/event/holiday-id-ul-fitr/
END:VEVENT
END:VCALENDAR