BEGIN:VCALENDAR
VERSION:2.0
PRODID:-//St. Nicholas&#039; International College, Negombo - ECPv6.15.11//NONSGML v1.0//EN
CALSCALE:GREGORIAN
METHOD:PUBLISH
X-ORIGINAL-URL:https://snic.lk/wp
X-WR-CALDESC:Events for St. Nicholas&#039; International College, Negombo
REFRESH-INTERVAL;VALUE=DURATION:PT1H
X-Robots-Tag:noindex
X-PUBLISHED-TTL:PT1H
BEGIN:VTIMEZONE
TZID:Asia/Kolkata
BEGIN:STANDARD
TZOFFSETFROM:+0530
TZOFFSETTO:+0530
TZNAME:IST
DTSTART:20180101T000000
END:STANDARD
END:VTIMEZONE
BEGIN:VEVENT
DTSTART;TZID=Asia/Kolkata:20240726T180000
DTEND;TZID=Asia/Kolkata:20240726T210000
DTSTAMP:20260419T234558
CREATED:20240706T054300Z
LAST-MODIFIED:20240706T054300Z
UID:6814-1722016800-1722027600@snic.lk
SUMMARY:Nicholites Concert 2024
DESCRIPTION:
URL:https://snic.lk/wp/event/nicholites-concert-2024/
END:VEVENT
BEGIN:VEVENT
DTSTART;VALUE=DATE:20240704
DTEND;VALUE=DATE:20240713
DTSTAMP:20260419T234558
CREATED:20240705T090954Z
LAST-MODIFIED:20240705T091041Z
UID:6744-1720051200-1720828799@snic.lk
SUMMARY:3rd Term Exams
DESCRIPTION:
URL:https://snic.lk/wp/event/3rd-term-exam/
END:VEVENT
BEGIN:VEVENT
DTSTART;TZID=Asia/Kolkata:20200325T080000
DTEND;TZID=Asia/Kolkata:20200331T170000
DTSTAMP:20260419T234558
CREATED:20190820T070051Z
LAST-MODIFIED:20190820T070051Z
UID:4675-1585123200-1585674000@snic.lk
SUMMARY:2nd  Term Test ( Junior School)
DESCRIPTION:
URL:https://snic.lk/wp/event/2nd-term-test-junior-school/
END:VEVENT
BEGIN:VEVENT
DTSTART;TZID=Asia/Kolkata:20200323T080000
DTEND;TZID=Asia/Kolkata:20200331T170000
DTSTAMP:20260419T234558
CREATED:20190820T070016Z
LAST-MODIFIED:20190820T070016Z
UID:4673-1584950400-1585674000@snic.lk
SUMMARY:2nd Term Test  ( Upper School)
DESCRIPTION:
URL:https://snic.lk/wp/event/2nd-term-test-upper-school/
END:VEVENT
BEGIN:VEVENT
DTSTART;TZID=Asia/Kolkata:20200320T080000
DTEND;TZID=Asia/Kolkata:20200320T170000
DTSTAMP:20260419T234558
CREATED:20190820T065943Z
LAST-MODIFIED:20190820T065943Z
UID:4671-1584691200-1584723600@snic.lk
SUMMARY:Spiritual Programme (Upper School)
DESCRIPTION:
URL:https://snic.lk/wp/event/spiritual-programme-upper-school/
END:VEVENT
BEGIN:VEVENT
DTSTART;TZID=Asia/Kolkata:20200313T080000
DTEND;TZID=Asia/Kolkata:20200313T170000
DTSTAMP:20260419T234558
CREATED:20190820T065900Z
LAST-MODIFIED:20190820T065914Z
UID:4668-1584086400-1584118800@snic.lk
SUMMARY:Spiritual Programme (Junior School) English Literary Association (F3 – F 5    /  12.00 – 1.30 pm)
DESCRIPTION:
URL:https://snic.lk/wp/event/spiritual-programme-junior-school/
END:VEVENT
BEGIN:VEVENT
DTSTART;TZID=Asia/Kolkata:20200310T080000
DTEND;TZID=Asia/Kolkata:20200310T170000
DTSTAMP:20260419T234558
CREATED:20190820T065532Z
LAST-MODIFIED:20190820T065532Z
UID:4666-1583827200-1583859600@snic.lk
SUMMARY:Meetings of Science and Commerce Associations (12.00 – 1.30 pm)
DESCRIPTION:
URL:https://snic.lk/wp/event/meetings-of-science-and-commerce-associations-12-00-1-30-pm-2/
END:VEVENT
BEGIN:VEVENT
DTSTART;TZID=Asia/Kolkata:20200309T080000
DTEND;TZID=Asia/Kolkata:20200309T170000
DTSTAMP:20260419T234558
CREATED:20190820T065322Z
LAST-MODIFIED:20190820T065823Z
UID:4663-1583740800-1583773200@snic.lk
SUMMARY:Poya Day (Holiday )
DESCRIPTION:
URL:https://snic.lk/wp/event/poya-day-holiday-2/
END:VEVENT
BEGIN:VEVENT
DTSTART;TZID=Asia/Kolkata:20200306T080000
DTEND;TZID=Asia/Kolkata:20200306T170000
DTSTAMP:20260419T234558
CREATED:20190820T065240Z
LAST-MODIFIED:20190820T065739Z
UID:4661-1583481600-1583514000@snic.lk
SUMMARY:Parent Teacher Meetings – Junior  School
DESCRIPTION:
URL:https://snic.lk/wp/event/parent-teacher-meetings-junior-school-3/
END:VEVENT
BEGIN:VEVENT
DTSTART;TZID=Asia/Kolkata:20200227T080000
DTEND;TZID=Asia/Kolkata:20200228T170000
DTSTAMP:20260419T234558
CREATED:20190820T065108Z
LAST-MODIFIED:20190820T065108Z
UID:4659-1582790400-1582909200@snic.lk
SUMMARY:Mid Term Tests Parent Teacher Meetings – Upper  School
DESCRIPTION:
URL:https://snic.lk/wp/event/mid-term-tests-parent-teacher-meetings-upper-school/
END:VEVENT
BEGIN:VEVENT
DTSTART;TZID=Asia/Kolkata:20200226T080000
DTEND;TZID=Asia/Kolkata:20200226T170000
DTSTAMP:20260419T234558
CREATED:20190820T065004Z
LAST-MODIFIED:20190820T065004Z
UID:4657-1582704000-1582736400@snic.lk
SUMMARY:Ash Wednesday. Holy Mass at both schools
DESCRIPTION:
URL:https://snic.lk/wp/event/ash-wednesday-holy-mass-at-both-schools/
END:VEVENT
BEGIN:VEVENT
DTSTART;TZID=Asia/Kolkata:20200221T080000
DTEND;TZID=Asia/Kolkata:20200221T170000
DTSTAMP:20260419T234558
CREATED:20190820T064936Z
LAST-MODIFIED:20190820T064936Z
UID:4655-1582272000-1582304400@snic.lk
SUMMARY:Holiday ( Maha Shivaratri)
DESCRIPTION:
URL:https://snic.lk/wp/event/holiday-maha-shivaratri/
END:VEVENT
BEGIN:VEVENT
DTSTART;TZID=Asia/Kolkata:20200220T080000
DTEND;TZID=Asia/Kolkata:20200220T170000
DTSTAMP:20260419T234558
CREATED:20190820T064904Z
LAST-MODIFIED:20190820T064904Z
UID:4653-1582185600-1582218000@snic.lk
SUMMARY:Prefects’ Investiture
DESCRIPTION:
URL:https://snic.lk/wp/event/prefects-investiture/
END:VEVENT
BEGIN:VEVENT
DTSTART;TZID=Asia/Kolkata:20200213T080000
DTEND;TZID=Asia/Kolkata:20200213T170000
DTSTAMP:20260419T234558
CREATED:20190820T064844Z
LAST-MODIFIED:20190820T064844Z
UID:4651-1581580800-1581613200@snic.lk
SUMMARY:English Literary Association  (F1 – F 2    /   12.00 – 1.30 pm)
DESCRIPTION:
URL:https://snic.lk/wp/event/english-literary-association-f1-f-2-12-00-1-30-pm/
END:VEVENT
BEGIN:VEVENT
DTSTART;TZID=Asia/Kolkata:20200207T080000
DTEND;TZID=Asia/Kolkata:20200207T170000
DTSTAMP:20260419T234558
CREATED:20190820T064652Z
LAST-MODIFIED:20190820T064652Z
UID:4649-1581062400-1581094800@snic.lk
SUMMARY:Parent Teacher Meetings – Junior  School
DESCRIPTION:
URL:https://snic.lk/wp/event/parent-teacher-meetings-junior-school-2/
END:VEVENT
BEGIN:VEVENT
DTSTART;TZID=Asia/Kolkata:20200204T080000
DTEND;TZID=Asia/Kolkata:20200204T170000
DTSTAMP:20260419T234558
CREATED:20190820T064614Z
LAST-MODIFIED:20190820T064614Z
UID:4647-1580803200-1580835600@snic.lk
SUMMARY:Independence Day celebrations
DESCRIPTION:
URL:https://snic.lk/wp/event/independence-day-celebrations/
END:VEVENT
BEGIN:VEVENT
DTSTART;TZID=Asia/Kolkata:20200131T080000
DTEND;TZID=Asia/Kolkata:20200131T170000
DTSTAMP:20260419T234558
CREATED:20190820T064553Z
LAST-MODIFIED:20190820T064553Z
UID:4645-1580457600-1580490000@snic.lk
SUMMARY:Sports Meet –Junior School ( Holiday for upper School)
DESCRIPTION:
URL:https://snic.lk/wp/event/sports-meet-junior-school-holiday-for-upper-school/
END:VEVENT
BEGIN:VEVENT
DTSTART;TZID=Asia/Kolkata:20200117T080000
DTEND;TZID=Asia/Kolkata:20200117T170000
DTSTAMP:20260419T234558
CREATED:20190820T064526Z
LAST-MODIFIED:20190820T064526Z
UID:4643-1579248000-1579280400@snic.lk
SUMMARY:Sports Meet – Upper School ( Holiday for Junior School
DESCRIPTION:
URL:https://snic.lk/wp/event/sports-meet-upper-school-holiday-for-junior-school/
END:VEVENT
BEGIN:VEVENT
DTSTART;TZID=Asia/Kolkata:20200115T080000
DTEND;TZID=Asia/Kolkata:20200115T170000
DTSTAMP:20260419T234558
CREATED:20190820T064503Z
LAST-MODIFIED:20190820T064503Z
UID:4641-1579075200-1579107600@snic.lk
SUMMARY:Holiday (Thai Pongal)
DESCRIPTION:
URL:https://snic.lk/wp/event/holiday-thai-pongal/
END:VEVENT
BEGIN:VEVENT
DTSTART;TZID=Asia/Kolkata:20200113T080000
DTEND;TZID=Asia/Kolkata:20200114T170000
DTSTAMP:20260419T234558
CREATED:20190820T064427Z
LAST-MODIFIED:20190820T064427Z
UID:4639-1578902400-1579021200@snic.lk
SUMMARY:Heats for the Sports Meet
DESCRIPTION:
URL:https://snic.lk/wp/event/heats-for-the-sports-meet/
END:VEVENT
BEGIN:VEVENT
DTSTART;TZID=Asia/Kolkata:20200102T080000
DTEND;TZID=Asia/Kolkata:20200102T170000
DTSTAMP:20260419T234558
CREATED:20190820T064225Z
LAST-MODIFIED:20190820T064225Z
UID:4635-1577952000-1577984400@snic.lk
SUMMARY:School reopens for teachers Seminar for Teachers
DESCRIPTION:
URL:https://snic.lk/wp/event/school-reopens-for-teachers-seminar-for-teachers/
END:VEVENT
BEGIN:VEVENT
DTSTART;TZID=Asia/Kolkata:20191215T080000
DTEND;TZID=Asia/Kolkata:20191215T170000
DTSTAMP:20260419T234558
CREATED:20190820T064133Z
LAST-MODIFIED:20190820T064133Z
UID:4633-1576396800-1576429200@snic.lk
SUMMARY:Christmas Carols
DESCRIPTION:
URL:https://snic.lk/wp/event/christmas-carols-2/
END:VEVENT
BEGIN:VEVENT
DTSTART;TZID=Asia/Kolkata:20191213T080000
DTEND;TZID=Asia/Kolkata:20191213T170000
DTSTAMP:20260419T234558
CREATED:20190820T063735Z
LAST-MODIFIED:20191205T084814Z
UID:4631-1576224000-1576256400@snic.lk
SUMMARY:Concert – Junior College
DESCRIPTION:
URL:https://snic.lk/wp/event/concert-junior-college/
END:VEVENT
BEGIN:VEVENT
DTSTART;TZID=Asia/Kolkata:20191209T080000
DTEND;TZID=Asia/Kolkata:20191209T170000
DTSTAMP:20260419T234558
CREATED:20190820T063630Z
LAST-MODIFIED:20190820T063650Z
UID:4628-1575878400-1575910800@snic.lk
SUMMARY:Reports distribution School closes for the 1st Term
DESCRIPTION:
URL:https://snic.lk/wp/event/reports-distribution/
END:VEVENT
BEGIN:VEVENT
DTSTART;TZID=Asia/Kolkata:20191206T080000
DTEND;TZID=Asia/Kolkata:20191206T170000
DTSTAMP:20260419T234558
CREATED:20190820T063412Z
LAST-MODIFIED:20190820T063412Z
UID:4626-1575619200-1575651600@snic.lk
SUMMARY:Loyalty Day  - Holy Mass
DESCRIPTION:
URL:https://snic.lk/wp/event/loyalty-day-holy-mass/
END:VEVENT
BEGIN:VEVENT
DTSTART;TZID=Asia/Kolkata:20191204T080000
DTEND;TZID=Asia/Kolkata:20191205T170000
DTSTAMP:20260419T234558
CREATED:20190820T063309Z
LAST-MODIFIED:20190820T063327Z
UID:4624-1575446400-1575565200@snic.lk
SUMMARY:Paper discussions
DESCRIPTION:
URL:https://snic.lk/wp/event/paper-discussions-2/
END:VEVENT
BEGIN:VEVENT
DTSTART;TZID=Asia/Kolkata:20191203T080000
DTEND;TZID=Asia/Kolkata:20191203T170000
DTSTAMP:20260419T234558
CREATED:20190820T064351Z
LAST-MODIFIED:20190820T064351Z
UID:4637-1575360000-1575392400@snic.lk
SUMMARY:School reopens for the 2nd Term Holy Mass in Both Schools House Meetings (12.30 – 1.30 pm)
DESCRIPTION:
URL:https://snic.lk/wp/event/school-reopens-for-the-2nd-term-holy-mass-in-both-schools-house-meetings-12-30-1-30-pm/
END:VEVENT
BEGIN:VEVENT
DTSTART;TZID=Asia/Kolkata:20191202T080000
DTEND;TZID=Asia/Kolkata:20191203T170000
DTSTAMP:20260419T234558
CREATED:20190820T063140Z
LAST-MODIFIED:20190820T063140Z
UID:4622-1575273600-1575392400@snic.lk
SUMMARY:Holiday for students
DESCRIPTION:
URL:https://snic.lk/wp/event/holiday-for-students/
END:VEVENT
BEGIN:VEVENT
DTSTART;TZID=Asia/Kolkata:20191121T080000
DTEND;TZID=Asia/Kolkata:20191129T170000
DTSTAMP:20260419T234558
CREATED:20190820T062904Z
LAST-MODIFIED:20190820T062904Z
UID:4618-1574323200-1575046800@snic.lk
SUMMARY:1st Term Tests -Upper School (2nd Withdrawal for A/L & O/L)
DESCRIPTION:
URL:https://snic.lk/wp/event/1st-term-tests-upper-school-2nd-withdrawal-for-a-l-o-l/
END:VEVENT
BEGIN:VEVENT
DTSTART;TZID=Asia/Kolkata:20191121T080000
DTEND;TZID=Asia/Kolkata:20191127T170000
DTSTAMP:20260419T234558
CREATED:20190820T062938Z
LAST-MODIFIED:20190820T062938Z
UID:4620-1574323200-1574874000@snic.lk
SUMMARY:1st Term Tests (Junior School)
DESCRIPTION:
URL:https://snic.lk/wp/event/1st-term-tests-junior-school/
END:VEVENT
END:VCALENDAR